Package: BioCor Version: 1.30.0 Command: /Library/Frameworks/R.framework/Resources/bin/R CMD build --keep-empty-dirs --no-resave-data BioCor StartedAt: 2025-02-03 19:29:25 -0500 (Mon, 03 Feb 2025) EndedAt: 2025-02-03 19:34:03 -0500 (Mon, 03 Feb 2025) EllapsedTime: 277.8 seconds RetCode: 0 Status: OK PackageFile: BioCor_1.30.0.tar.gz PackageFileSize: 1.576 MiB