Package: BioCor Version: 1.30.0 Command: /Library/Frameworks/R.framework/Resources/bin/R CMD check --install=check:BioCor.install-out.txt --library=/Library/Frameworks/R.framework/Resources/library --no-vignettes --timings BioCor_1.30.0.tar.gz StartedAt: 2025-02-04 12:39:19 -0500 (Tue, 04 Feb 2025) EndedAt: 2025-02-04 12:42:28 -0500 (Tue, 04 Feb 2025) EllapsedTime: 189.0 seconds RetCode: 0 Status: OK CheckDir: BioCor.Rcheck Warnings: 0