Package: BioCor Version: 1.30.0 Command: rm -rf BioCor.buildbin-libdir && mkdir BioCor.buildbin-libdir && /Users/biocbuild/BBS/utils/build-universal.sh BioCor_1.30.0.tar.gz /Library/Frameworks/R.framework/Resources/bin/R BioCor.buildbin-libdir StartedAt: 2025-02-04 12:32:16 -0500 (Tue, 04 Feb 2025) EndedAt: 2025-02-04 12:33:02 -0500 (Tue, 04 Feb 2025) EllapsedTime: 46.2 seconds RetCode: 0 Status: OK PackageFile: BioCor_1.30.0.tgz PackageFileSize: 1.69 MiB