Package: BioCor Version: 1.30.0 Command: /Library/Frameworks/R.framework/Resources/bin/R CMD check --install=check:BioCor.install-out.txt --library=/Library/Frameworks/R.framework/Resources/library --no-vignettes --timings BioCor_1.30.0.tar.gz StartedAt: 2025-02-04 00:17:24 -0500 (Tue, 04 Feb 2025) EndedAt: 2025-02-04 00:23:26 -0500 (Tue, 04 Feb 2025) EllapsedTime: 362.6 seconds RetCode: 0 Status: OK CheckDir: BioCor.Rcheck Warnings: 0