Package: BioCor Version: 1.30.0 Command: rm -rf BioCor.buildbin-libdir && mkdir BioCor.buildbin-libdir && F:\biocbuild\bbs-3.20-bioc\R\bin\R.exe CMD INSTALL --build --library=BioCor.buildbin-libdir BioCor_1.30.0.tar.gz StartedAt: 2025-02-04 08:03:22 -0500 (Tue, 04 Feb 2025) EndedAt: 2025-02-04 08:04:09 -0500 (Tue, 04 Feb 2025) EllapsedTime: 47.6 seconds RetCode: 0 Status: OK PackageFile: BioCor_1.30.0.zip PackageFileSize: 1.12 MiB