Package: BioCor Version: 1.30.0 Command: chmod a+r BioCor -R && F:\biocbuild\bbs-3.20-bioc\R\bin\R.exe CMD build --keep-empty-dirs --no-resave-data BioCor StartedAt: 2025-02-03 17:45:43 -0500 (Mon, 03 Feb 2025) EndedAt: 2025-02-03 17:51:30 -0500 (Mon, 03 Feb 2025) EllapsedTime: 347.3 seconds RetCode: 0 Status: OK PackageFile: BioCor_1.30.0.tar.gz PackageFileSize: 1.002 MiB