Package: BioCor Version: 1.30.0 Command: F:\biocbuild\bbs-3.20-bioc\R\bin\R.exe CMD check --no-multiarch --install=check:BioCor.install-out.txt --library=F:\biocbuild\bbs-3.20-bioc\R\library --no-vignettes --timings BioCor_1.30.0.tar.gz StartedAt: 2025-02-03 23:33:13 -0500 (Mon, 03 Feb 2025) EndedAt: 2025-02-03 23:42:01 -0500 (Mon, 03 Feb 2025) EllapsedTime: 528.4 seconds RetCode: 0 Status: OK CheckDir: BioCor.Rcheck Warnings: 0