Package: BioCor Version: 1.30.0 Command: F:\biocbuild\bbs-3.20-bioc\R\bin\R.exe CMD INSTALL BioCor StartedAt: 2025-02-03 16:02:24 -0500 (Mon, 03 Feb 2025) EndedAt: 2025-02-03 16:03:04 -0500 (Mon, 03 Feb 2025) EllapsedTime: 40.0 seconds RetCode: 0 Status: OK