Package: BioGA Version: 1.0.0 Command: /Library/Frameworks/R.framework/Resources/bin/R CMD build --keep-empty-dirs --no-resave-data BioGA StartedAt: 2025-02-03 19:36:01 -0500 (Mon, 03 Feb 2025) EndedAt: 2025-02-03 19:36:59 -0500 (Mon, 03 Feb 2025) EllapsedTime: 57.9 seconds RetCode: 0 Status: OK PackageFile: BioGA_1.0.0.tar.gz PackageFileSize: 309.4 KiB