Package: BioGA Version: 1.0.0 Command: /home/biocbuild/bbs-3.20-bioc/R/bin/R CMD INSTALL BioGA StartedAt: 2025-02-03 15:41:34 -0500 (Mon, 03 Feb 2025) EndedAt: 2025-02-03 15:42:20 -0500 (Mon, 03 Feb 2025) EllapsedTime: 45.4 seconds RetCode: 0 Status: OK