Package: BioGA Version: 1.0.0 Command: rm -rf BioGA.buildbin-libdir && mkdir BioGA.buildbin-libdir && F:\biocbuild\bbs-3.20-bioc\R\bin\R.exe CMD INSTALL --build --library=BioGA.buildbin-libdir BioGA_1.0.0.tar.gz StartedAt: 2025-02-04 08:04:39 -0500 (Tue, 04 Feb 2025) EndedAt: 2025-02-04 08:05:34 -0500 (Tue, 04 Feb 2025) EllapsedTime: 55.4 seconds RetCode: 0 Status: OK PackageFile: BioGA_1.0.0.zip PackageFileSize: 666.5 KiB