Package: BioGA Version: 1.0.0 Command: /home/biocbuild/R/R/bin/R CMD build --keep-empty-dirs --no-resave-data BioGA StartedAt: 2025-02-03 22:06:50 -0000 (Mon, 03 Feb 2025) EndedAt: 2025-02-03 22:07:56 -0000 (Mon, 03 Feb 2025) EllapsedTime: 66.0 seconds RetCode: 0 Status: OK PackageFile: BioGA_1.0.0.tar.gz PackageFileSize: 334.4 KiB