Package: BioGA Version: 1.0.0 Command: /home/biocbuild/R/R/bin/R CMD INSTALL BioGA StartedAt: 2025-02-03 20:55:58 -0000 (Mon, 03 Feb 2025) EndedAt: 2025-02-03 20:56:54 -0000 (Mon, 03 Feb 2025) EllapsedTime: 56.4 seconds RetCode: 0 Status: OK