Package: BioNAR Version: 1.8.1 Command: rm -rf BioNAR.buildbin-libdir && mkdir BioNAR.buildbin-libdir && /Users/biocbuild/BBS/utils/build-universal.sh BioNAR_1.8.1.tar.gz /Library/Frameworks/R.framework/Resources/bin/R BioNAR.buildbin-libdir StartedAt: 2025-02-05 15:00:05 -0500 (Wed, 05 Feb 2025) EndedAt: 2025-02-05 15:00:38 -0500 (Wed, 05 Feb 2025) EllapsedTime: 32.6 seconds RetCode: 0 Status: OK PackageFile: BioNAR_1.8.1.tgz PackageFileSize: 4.142 MiB