Package: BioNAR Version: 1.8.1 Command: /Library/Frameworks/R.framework/Resources/bin/R CMD build --keep-empty-dirs --no-resave-data BioNAR StartedAt: 2025-02-03 19:36:43 -0500 (Mon, 03 Feb 2025) EndedAt: 2025-02-03 19:39:37 -0500 (Mon, 03 Feb 2025) EllapsedTime: 174.4 seconds RetCode: 0 Status: OK PackageFile: BioNAR_1.8.1.tar.gz PackageFileSize: 3.587 MiB