Package: BioNAR Version: 1.8.1 Command: /Library/Frameworks/R.framework/Resources/bin/R CMD check --install=check:BioNAR.install-out.txt --library=/Library/Frameworks/R.framework/Resources/library --no-vignettes --timings BioNAR_1.8.1.tar.gz StartedAt: 2025-02-04 00:24:46 -0500 (Tue, 04 Feb 2025) EndedAt: 2025-02-04 00:39:39 -0500 (Tue, 04 Feb 2025) EllapsedTime: 893.5 seconds RetCode: 0 Status: OK CheckDir: BioNAR.Rcheck Warnings: 0