Package: BioNAR Version: 1.8.1 Command: /home/biocbuild/bbs-3.20-bioc/R/bin/R CMD check --install=check:BioNAR.install-out.txt --library=/home/biocbuild/bbs-3.20-bioc/R/site-library --timings BioNAR_1.8.1.tar.gz StartedAt: 2025-02-03 20:29:04 -0500 (Mon, 03 Feb 2025) EndedAt: 2025-02-03 20:36:36 -0500 (Mon, 03 Feb 2025) EllapsedTime: 452.1 seconds RetCode: 0 Status: OK CheckDir: BioNAR.Rcheck Warnings: 0