Package: BioNAR Version: 1.8.1 Command: /home/biocbuild/bbs-3.20-bioc/R/bin/R CMD INSTALL BioNAR StartedAt: 2025-02-03 15:50:30 -0500 (Mon, 03 Feb 2025) EndedAt: 2025-02-03 15:50:57 -0500 (Mon, 03 Feb 2025) EllapsedTime: 26.9 seconds RetCode: 0 Status: OK