Package: BioNAR Version: 1.8.1 Command: rm -rf BioNAR.buildbin-libdir && mkdir BioNAR.buildbin-libdir && F:\biocbuild\bbs-3.20-bioc\R\bin\R.exe CMD INSTALL --build --library=BioNAR.buildbin-libdir BioNAR_1.8.1.tar.gz StartedAt: 2025-02-04 08:04:50 -0500 (Tue, 04 Feb 2025) EndedAt: 2025-02-04 08:05:56 -0500 (Tue, 04 Feb 2025) EllapsedTime: 65.9 seconds RetCode: 0 Status: OK PackageFile: BioNAR_1.8.1.zip PackageFileSize: 3.111 MiB