Package: BioNAR Version: 1.8.1 Command: chmod a+r BioNAR -R && F:\biocbuild\bbs-3.20-bioc\R\bin\R.exe CMD build --keep-empty-dirs --no-resave-data BioNAR StartedAt: 2025-02-03 17:48:55 -0500 (Mon, 03 Feb 2025) EndedAt: 2025-02-03 17:52:23 -0500 (Mon, 03 Feb 2025) EllapsedTime: 207.3 seconds RetCode: 0 Status: OK PackageFile: BioNAR_1.8.1.tar.gz PackageFileSize: 2.617 MiB