Package: BioNAR Version: 1.8.1 Command: F:\biocbuild\bbs-3.20-bioc\R\bin\R.exe CMD check --no-multiarch --install=check:BioNAR.install-out.txt --library=F:\biocbuild\bbs-3.20-bioc\R\library --no-vignettes --timings BioNAR_1.8.1.tar.gz StartedAt: 2025-02-03 23:42:25 -0500 (Mon, 03 Feb 2025) EndedAt: 2025-02-03 23:51:52 -0500 (Mon, 03 Feb 2025) EllapsedTime: 567.3 seconds RetCode: 0 Status: OK CheckDir: BioNAR.Rcheck Warnings: 0