Package: BioNAR Version: 1.8.1 Command: F:\biocbuild\bbs-3.20-bioc\R\bin\R.exe CMD INSTALL BioNAR StartedAt: 2025-02-03 16:09:03 -0500 (Mon, 03 Feb 2025) EndedAt: 2025-02-03 16:10:10 -0500 (Mon, 03 Feb 2025) EllapsedTime: 67.0 seconds RetCode: 0 Status: OK