Package: BioNAR Version: 1.8.1 Command: /home/biocbuild/R/R/bin/R CMD build --keep-empty-dirs --no-resave-data BioNAR StartedAt: 2025-01-30 22:07:08 -0000 (Thu, 30 Jan 2025) EndedAt: 2025-01-30 22:10:10 -0000 (Thu, 30 Jan 2025) EllapsedTime: 182.0 seconds RetCode: 0 Status: OK PackageFile: BioNAR_1.8.1.tar.gz PackageFileSize: 3.413 MiB