############################################################################## ############################################################################## ### ### Running command: ### ### /home/biocbuild/R/R/bin/R CMD check --install=check:BioNAR.install-out.txt --library=/home/biocbuild/R/R/site-library --no-vignettes --timings BioNAR_1.8.1.tar.gz ### ############################################################################## ############################################################################## * using log directory ‘/home/biocbuild/bbs-3.20-bioc/meat/BioNAR.Rcheck’ * using R version 4.4.2 (2024-10-31) * using platform: aarch64-unknown-linux-gnu * R was compiled by aarch64-unknown-linux-gnu-gcc (GCC) 14.2.0 GNU Fortran (GCC) 12.3.1 (openEuler 12.3.1-36.oe2403) * running under: openEuler 24.03 (LTS) * using session charset: UTF-8 * using option ‘--no-vignettes’ * checking for file ‘BioNAR/DESCRIPTION’ ... OK * this is package ‘BioNAR’ version ‘1.8.1’ * package encoding: UTF-8 * checking package namespace information ... OK * checking package dependencies ... OK * checking if this is a source package ... OK * checking if there is a namespace ... OK * checking for hidden files and directories ... OK * checking for portable file names ... OK * checking for sufficient/correct file permissions ... OK * checking whether package ‘BioNAR’ can be installed ... OK * checking installed package size ... NOTE installed size is 6.8Mb sub-directories of 1Mb or more: extdata 6.1Mb * checking package directory ... OK * checking ‘build’ directory ... OK * checking DESCRIPTION meta-information ... OK * checking top-level files ... OK * checking for left-over files ... OK * checking index information ... OK * checking package subdirectories ... OK * checking code files for non-ASCII characters ... OK * checking R files for syntax errors ... OK * checking whether the package can be loaded ... OK * checking whether the package can be loaded with stated dependencies ... OK * checking whether the package can be unloaded cleanly ... OK * checking whether the namespace can be loaded with stated dependencies ... OK * checking whether the namespace can be unloaded cleanly ... OK * checking loading without being on the library search path ... OK * checking dependencies in R code ... NOTE Package in Depends field not imported from: ‘Rdpack’ These packages need to be imported from (in the NAMESPACE file) for when this namespace is loaded but not attached. There are ::: calls to the package's namespace in its code. A package almost never needs to use ::: for its own objects: ‘addNoise’ ‘gofs’ ‘highlightRate’ ‘plotSigmoid’ * checking S3 generic/method consistency ... OK * checking replacement functions ... OK * checking foreign function calls ... OK * checking R code for possible problems ... NOTE clusterORA : forafun: no visible binding for global variable ‘pathway’ clusterORA : forafun: no visible binding for global variable ‘size’ clusterORA : forafun: no visible binding for global variable ‘overlap’ clusterORA : forafun: no visible binding for global variable ‘pval’ clusterORA : forafun: no visible binding for global variable ‘padj’ clusterORA : forafun: no visible binding for global variable ‘overlapGenes’ clusterORA : forafun: no visible binding for global variable ‘FL’ clusterORA : forafun: no visible binding for global variable ‘N’ clusterORA : forafun: no visible binding for global variable ‘Fn’ clusterORA : forafun: no visible binding for global variable ‘Cn’ clusterORA : forafun: no visible binding for global variable ‘Mu’ clusterORA : forafun: no visible binding for global variable ‘OR’ clusterORA : forafun: no visible binding for global variable ‘CIw’ clusterORA : forafun: no visible binding for global variable ‘Fe’ clusterORA : forafun: no visible binding for global variable ‘Fc’ clusterORA : forafun: no visible binding for global variable ‘palt’ plotSigmoid: no visible binding for global variable ‘yiR1’ plotSigmoid: no visible binding for global variable ‘yiR2’ plotSigmoid: no visible binding for global variable ‘yiR3’ plotSigmoid: no visible binding for global variable ‘yiR4’ plotSigmoid: no visible binding for global variable ‘yiR5’ Undefined global functions or variables: CIw Cn FL Fc Fe Fn Mu N OR overlap overlapGenes padj palt pathway pval size yiR1 yiR2 yiR3 yiR4 yiR5 * checking Rd files ... NOTE checkRd: (-1) FitDegree.Rd:34: Lost braces 34 | \item{legpos}{position of the legend @seealso{legend}} | ^ checkRd: (-1) calcEntropy.Rd:52: Lost braces; missing escapes or markup? 52 | Other {Entropy Functions}: | ^ checkRd: (-1) getEntropy.Rd:66: Lost braces; missing escapes or markup? 66 | Other {Entropy Functions}: | ^ checkRd: (-1) getEntropyRate.Rd:41: Lost braces; missing escapes or markup? 41 | Other {Entropy Functions}: | ^ checkRd: (-1) getRobustness.Rd:49: Lost braces; missing escapes or markup? 49 | Other {Robustness functions}: | ^ checkRd: (-1) makeConsensusMatrix.Rd:69: Lost braces; missing escapes or markup? 69 | Other {Robustness functions}: | ^ checkRd: (-1) plotEntropy.Rd:57: Lost braces; missing escapes or markup? 57 | Other {Entropy Functions}: | ^ * checking Rd metadata ... OK * checking Rd cross-references ... NOTE Unknown package ‘clusterCons’ in Rd xrefs * checking for missing documentation entries ... OK * checking for code/documentation mismatches ... OK * checking Rd \usage sections ... OK * checking Rd contents ... OK * checking for unstated dependencies in examples ... OK * checking contents of ‘data’ directory ... OK * checking data for non-ASCII characters ... OK * checking LazyData ... OK * checking data for ASCII and uncompressed saves ... OK * checking files in ‘vignettes’ ... OK * checking examples ... OK Examples with CPU (user + system) or elapsed time > 5s user system elapsed clusteringSummary 13.840 0.020 13.888 plotEntropy 12.041 0.092 12.168 calcEntropy 11.742 0.059 11.844 addEdgeAtts 11.260 0.128 11.412 getEntropy 11.255 0.060 11.345 getCentralityMatrix 11.226 0.028 11.288 getGraphCentralityECDF 11.187 0.055 11.280 annotateTopOntoOVG 9.905 0.144 10.084 runPermDisease 8.105 0.048 8.172 annotateSCHanno 6.738 0.052 6.813 annotateGOont 5.532 0.123 5.680 annotateGoBP 5.443 0.052 5.513 normModularity 5.419 0.052 5.485 calcAllClustering 5.174 0.008 5.195 annotateGoMF 5.024 0.155 5.194 FitDegree 1.305 0.052 7.485 getRandomGraphCentrality 0.801 0.016 14.207 * checking for unstated dependencies in ‘tests’ ... OK * checking tests ... Running ‘testthat.R’ OK * checking for unstated dependencies in vignettes ... OK * checking package vignettes ... OK * checking running R code from vignettes ... SKIPPED * checking re-building of vignette outputs ... SKIPPED * checking PDF version of manual ... OK * DONE Status: 5 NOTEs See ‘/home/biocbuild/bbs-3.20-bioc/meat/BioNAR.Rcheck/00check.log’ for details.