Package: BioNAR Version: 1.8.1 Command: /home/biocbuild/R/R/bin/R CMD check --install=check:BioNAR.install-out.txt --library=/home/biocbuild/R/R/site-library --no-vignettes --timings BioNAR_1.8.1.tar.gz StartedAt: 2025-01-31 04:24:30 -0000 (Fri, 31 Jan 2025) EndedAt: 2025-01-31 04:31:37 -0000 (Fri, 31 Jan 2025) EllapsedTime: 427.5 seconds RetCode: 0 Status: OK CheckDir: BioNAR.Rcheck Warnings: 0