Package: BioNAR Version: 1.8.1 Command: /home/biocbuild/R/R/bin/R CMD INSTALL BioNAR StartedAt: 2025-01-30 20:49:27 -0000 (Thu, 30 Jan 2025) EndedAt: 2025-01-30 20:49:58 -0000 (Thu, 30 Jan 2025) EllapsedTime: 31.3 seconds RetCode: 0 Status: OK