Package: BioNERO
Version: 1.14.0
Command: /home/biocbuild/R/R/bin/R CMD check --install=check:BioNERO.install-out.txt --library=/home/biocbuild/R/R/site-library --no-vignettes --timings BioNERO_1.14.0.tar.gz
StartedAt: 2024-11-20 05:40:22 -0000 (Wed, 20 Nov 2024)
EndedAt: 2024-11-20 05:51:14 -0000 (Wed, 20 Nov 2024)
EllapsedTime: 652.0 seconds
RetCode: 0
Status: OK
CheckDir: BioNERO.Rcheck
Warnings: 0