Package: BioNERO Version: 1.14.0 Command: rm -rf BioNERO.buildbin-libdir && mkdir BioNERO.buildbin-libdir && /Users/biocbuild/BBS/utils/build-universal.sh BioNERO_1.14.0.tar.gz /Library/Frameworks/R.framework/Resources/bin/R BioNERO.buildbin-libdir StartedAt: 2024-11-20 04:16:25 -0500 (Wed, 20 Nov 2024) EndedAt: 2024-11-20 04:17:20 -0500 (Wed, 20 Nov 2024) EllapsedTime: 55.4 seconds RetCode: 0 Status: OK PackageFile: BioNERO_1.14.0.tgz PackageFileSize: 5.077 MiB