Package: BioNERO Version: 1.14.0 Command: /Library/Frameworks/R.framework/Resources/bin/R CMD INSTALL BioNERO StartedAt: 2025-02-03 16:41:05 -0500 (Mon, 03 Feb 2025) EndedAt: 2025-02-03 16:42:19 -0500 (Mon, 03 Feb 2025) EllapsedTime: 73.9 seconds RetCode: 0 Status: OK