Package: BioNERO Version: 1.14.0 Command: /home/biocbuild/bbs-3.20-bioc/R/bin/R CMD check --install=check:BioNERO.install-out.txt --library=/home/biocbuild/bbs-3.20-bioc/R/site-library --timings BioNERO_1.14.0.tar.gz StartedAt: 2025-02-03 20:29:12 -0500 (Mon, 03 Feb 2025) EndedAt: 2025-02-03 20:41:04 -0500 (Mon, 03 Feb 2025) EllapsedTime: 712.4 seconds RetCode: 0 Status: OK CheckDir: BioNERO.Rcheck Warnings: 0