Package: BioNERO Version: 1.14.0 Command: rm -rf BioNERO.buildbin-libdir && mkdir BioNERO.buildbin-libdir && F:\biocbuild\bbs-3.20-bioc\R\bin\R.exe CMD INSTALL --build --library=BioNERO.buildbin-libdir BioNERO_1.14.0.tar.gz StartedAt: 2025-02-04 08:04:52 -0500 (Tue, 04 Feb 2025) EndedAt: 2025-02-04 08:05:58 -0500 (Tue, 04 Feb 2025) EllapsedTime: 66.6 seconds RetCode: 0 Status: OK PackageFile: BioNERO_1.14.0.zip PackageFileSize: 3.884 MiB