Package: BioNERO Version: 1.14.0 Command: F:\biocbuild\bbs-3.20-bioc\R\bin\R.exe CMD INSTALL BioNERO StartedAt: 2025-02-03 17:03:28 -0500 (Mon, 03 Feb 2025) EndedAt: 2025-02-03 17:04:23 -0500 (Mon, 03 Feb 2025) EllapsedTime: 54.3 seconds RetCode: 0 Status: OK