Package: BioNERO Version: 1.14.0 Command: /home/biocbuild/R/R/bin/R CMD check --install=check:BioNERO.install-out.txt --library=/home/biocbuild/R/R/site-library --no-vignettes --timings BioNERO_1.14.0.tar.gz StartedAt: 2025-02-04 05:07:04 -0000 (Tue, 04 Feb 2025) EndedAt: 2025-02-04 05:15:46 -0000 (Tue, 04 Feb 2025) EllapsedTime: 522.6 seconds RetCode: 0 Status: OK CheckDir: BioNERO.Rcheck Warnings: 0