Package: BioNet Version: 1.66.0 Command: rm -rf BioNet.buildbin-libdir && mkdir BioNet.buildbin-libdir && /Users/biocbuild/BBS/utils/build-universal.sh BioNet_1.66.0.tar.gz /Library/Frameworks/R.framework/Resources/bin/R BioNet.buildbin-libdir StartedAt: 2025-02-12 14:14:28 -0500 (Wed, 12 Feb 2025) EndedAt: 2025-02-12 14:14:48 -0500 (Wed, 12 Feb 2025) EllapsedTime: 19.2 seconds RetCode: 0 Status: OK PackageFile: BioNet_1.66.0.tgz PackageFileSize: 1.525 MiB