Package: BioNet Version: 1.66.0 Command: rm -rf BioNet.buildbin-libdir && mkdir BioNet.buildbin-libdir && /Users/biocbuild/BBS/utils/build-universal.sh BioNet_1.66.0.tar.gz /Library/Frameworks/R.framework/Resources/bin/R BioNet.buildbin-libdir StartedAt: 2025-02-04 12:32:59 -0500 (Tue, 04 Feb 2025) EndedAt: 2025-02-04 12:33:35 -0500 (Tue, 04 Feb 2025) EllapsedTime: 35.9 seconds RetCode: 0 Status: OK PackageFile: BioNet_1.66.0.tgz PackageFileSize: 1.525 MiB