Package: BioNet Version: 1.66.0 Command: /home/biocbuild/R/R/bin/R CMD build --keep-empty-dirs --no-resave-data BioNet StartedAt: 2025-02-03 22:07:55 -0000 (Mon, 03 Feb 2025) EndedAt: 2025-02-03 22:08:57 -0000 (Mon, 03 Feb 2025) EllapsedTime: 62.0 seconds RetCode: 0 Status: OK PackageFile: BioNet_1.66.0.tar.gz PackageFileSize: 1.792 MiB