Package: BioNet Version: 1.66.0 Command: /home/biocbuild/R/R/bin/R CMD check --install=check:BioNet.install-out.txt --library=/home/biocbuild/R/R/site-library --no-vignettes --timings BioNet_1.66.0.tar.gz StartedAt: 2025-02-04 05:07:08 -0000 (Tue, 04 Feb 2025) EndedAt: 2025-02-04 05:10:20 -0000 (Tue, 04 Feb 2025) EllapsedTime: 192.3 seconds RetCode: 0 Status: OK CheckDir: BioNet.Rcheck Warnings: 0