Package: BioQC Version: 1.34.0 Command: /Library/Frameworks/R.framework/Resources/bin/R CMD check --install=check:BioQC.install-out.txt --library=/Library/Frameworks/R.framework/Resources/library --no-vignettes --timings BioQC_1.34.0.tar.gz StartedAt: 2025-02-04 12:53:52 -0500 (Tue, 04 Feb 2025) EndedAt: 2025-02-04 12:54:49 -0500 (Tue, 04 Feb 2025) EllapsedTime: 57.7 seconds RetCode: 0 Status: OK CheckDir: BioQC.Rcheck Warnings: 0