Package: BioQC Version: 1.34.0 Command: /home/biocbuild/bbs-3.20-bioc/R/bin/R CMD check --install=check:BioQC.install-out.txt --library=/home/biocbuild/bbs-3.20-bioc/R/site-library --timings BioQC_1.34.0.tar.gz StartedAt: 2025-02-03 20:29:20 -0500 (Mon, 03 Feb 2025) EndedAt: 2025-02-03 20:32:07 -0500 (Mon, 03 Feb 2025) EllapsedTime: 167.2 seconds RetCode: 0 Status: OK CheckDir: BioQC.Rcheck Warnings: 0