Package: BioQC Version: 1.34.0 Command: chmod a+r BioQC -R && F:\biocbuild\bbs-3.20-bioc\R\bin\R.exe CMD build --keep-empty-dirs --no-resave-data BioQC StartedAt: 2025-02-03 17:49:33 -0500 (Mon, 03 Feb 2025) EndedAt: 2025-02-03 17:53:14 -0500 (Mon, 03 Feb 2025) EllapsedTime: 220.9 seconds RetCode: 0 Status: OK PackageFile: BioQC_1.34.0.tar.gz PackageFileSize: 4.302 MiB