Package: BioQC Version: 1.34.0 Command: /home/biocbuild/R/R/bin/R CMD build --keep-empty-dirs --no-resave-data BioQC StartedAt: 2025-02-03 22:07:56 -0000 (Mon, 03 Feb 2025) EndedAt: 2025-02-03 22:10:36 -0000 (Mon, 03 Feb 2025) EllapsedTime: 159.0 seconds RetCode: 0 Status: OK PackageFile: BioQC_1.34.0.tar.gz PackageFileSize: 4.301 MiB