Package: BioTIP Version: 1.20.0 Command: rm -rf BioTIP.buildbin-libdir && mkdir BioTIP.buildbin-libdir && /Users/biocbuild/BBS/utils/build-universal.sh BioTIP_1.20.0.tar.gz /Library/Frameworks/R.framework/Resources/bin/R BioTIP.buildbin-libdir StartedAt: 2025-02-05 15:00:38 -0500 (Wed, 05 Feb 2025) EndedAt: 2025-02-05 15:00:59 -0500 (Wed, 05 Feb 2025) EllapsedTime: 21.1 seconds RetCode: 0 Status: OK PackageFile: BioTIP_1.20.0.tgz PackageFileSize: 7.232 MiB