Package: BioTIP Version: 1.20.0 Command: /Library/Frameworks/R.framework/Resources/bin/R CMD INSTALL BioTIP StartedAt: 2025-02-03 17:51:04 -0500 (Mon, 03 Feb 2025) EndedAt: 2025-02-03 17:51:20 -0500 (Mon, 03 Feb 2025) EllapsedTime: 15.8 seconds RetCode: 0 Status: OK