Package: BioTIP Version: 1.20.0 Command: rm -rf BioTIP.buildbin-libdir && mkdir BioTIP.buildbin-libdir && /Users/biocbuild/BBS/utils/build-universal.sh BioTIP_1.20.0.tar.gz /Library/Frameworks/R.framework/Resources/bin/R BioTIP.buildbin-libdir StartedAt: 2025-02-04 12:33:08 -0500 (Tue, 04 Feb 2025) EndedAt: 2025-02-04 12:33:48 -0500 (Tue, 04 Feb 2025) EllapsedTime: 40.3 seconds RetCode: 0 Status: OK PackageFile: BioTIP_1.20.0.tgz PackageFileSize: 7.231 MiB