Package: BioTIP Version: 1.20.0 Command: /Library/Frameworks/R.framework/Resources/bin/R CMD check --install=check:BioTIP.install-out.txt --library=/Library/Frameworks/R.framework/Resources/library --no-vignettes --timings BioTIP_1.20.0.tar.gz StartedAt: 2025-02-04 00:27:26 -0500 (Tue, 04 Feb 2025) EndedAt: 2025-02-04 00:31:33 -0500 (Tue, 04 Feb 2025) EllapsedTime: 246.6 seconds RetCode: 0 Status: WARNINGS CheckDir: BioTIP.Rcheck Warnings: 2