Package: BioTIP Version: 1.20.0 Command: /home/biocbuild/bbs-3.20-bioc/R/bin/R CMD check --install=check:BioTIP.install-out.txt --library=/home/biocbuild/bbs-3.20-bioc/R/site-library --timings BioTIP_1.20.0.tar.gz StartedAt: 2025-02-03 20:29:40 -0500 (Mon, 03 Feb 2025) EndedAt: 2025-02-03 20:32:28 -0500 (Mon, 03 Feb 2025) EllapsedTime: 168.2 seconds RetCode: 0 Status: WARNINGS CheckDir: BioTIP.Rcheck Warnings: 2