Package: BioTIP Version: 1.20.0 Command: chmod a+r BioTIP -R && F:\biocbuild\bbs-3.20-bioc\R\bin\R.exe CMD build --keep-empty-dirs --no-resave-data BioTIP StartedAt: 2025-02-03 17:49:48 -0500 (Mon, 03 Feb 2025) EndedAt: 2025-02-03 17:52:56 -0500 (Mon, 03 Feb 2025) EllapsedTime: 188.7 seconds RetCode: 0 Status: OK PackageFile: BioTIP_1.20.0.tar.gz PackageFileSize: 40.44 MiB