Package: BioTIP Version: 1.20.0 Command: F:\biocbuild\bbs-3.20-bioc\R\bin\R.exe CMD check --no-multiarch --install=check:BioTIP.install-out.txt --library=F:\biocbuild\bbs-3.20-bioc\R\library --no-vignettes --timings BioTIP_1.20.0.tar.gz StartedAt: 2025-02-03 23:43:29 -0500 (Mon, 03 Feb 2025) EndedAt: 2025-02-03 23:45:37 -0500 (Mon, 03 Feb 2025) EllapsedTime: 128.4 seconds RetCode: 0 Status: WARNINGS CheckDir: BioTIP.Rcheck Warnings: 2