Package: BioTIP Version: 1.20.0 Command: /home/biocbuild/R/R/bin/R CMD INSTALL BioTIP StartedAt: 2025-02-03 21:18:16 -0000 (Mon, 03 Feb 2025) EndedAt: 2025-02-03 21:18:32 -0000 (Mon, 03 Feb 2025) EllapsedTime: 16.1 seconds RetCode: 0 Status: OK