Package: BioTIP Version: 1.20.0 Command: /home/biocbuild/bbs-3.20-bioc/R/bin/R CMD check --install=check:BioTIP.install-out.txt --library=/home/biocbuild/bbs-3.20-bioc/R/site-library --timings BioTIP_1.20.0.tar.gz StartedAt: 2024-11-19 23:32:44 -0500 (Tue, 19 Nov 2024) EndedAt: 2024-11-19 23:35:06 -0500 (Tue, 19 Nov 2024) EllapsedTime: 142.7 seconds RetCode: 0 Status: WARNINGS CheckDir: BioTIP.Rcheck Warnings: 2